BEGIN:VCALENDAR
VERSION:2.0
PRODID:spatie/icalendar-generator
DESCRIPTION:Veranstaltungen von Ole auf hro1.de
X-WR-CALDESC:Veranstaltungen von Ole auf hro1.de
REFRESH-INTERVAL;VALUE=DURATION:PT1440M
X-PUBLISHED-TTL:PT1440M
BEGIN:VTIMEZONE
TZID:Europe/Berlin
BEGIN:STANDARD
DTSTART:20211031T030000Z
TZOFFSETFROM:+0200
TZOFFSETTO:+0100
END:STANDARD
BEGIN:DAYLIGHT
DTSTART:20220327T020000Z
TZOFFSETFROM:+0100
TZOFFSETTO:+0200
END:DAYLIGHT
BEGIN:STANDARD
DTSTART:20221030T030000Z
TZOFFSETFROM:+0200
TZOFFSETTO:+0100
END:STANDARD
END:VTIMEZONE
BEGIN:VTIMEZONE
TZID:UTC
BEGIN:STANDARD
DTSTART:20250723T155930Z
TZOFFSETFROM:+0000
TZOFFSETTO:+0000
END:STANDARD
END:VTIMEZONE
BEGIN:VEVENT
UID:45-40
DTSTAMP:20260419T155930Z
SUMMARY:Sonderoperation Mönkebude
LOCATION:
ORGANIZER;CN=Olaf Kühndel:MAILTO:olaf@hro1.de
DTSTART;TZID=Europe/Berlin;VALUE=DATE:20220617
DTEND;TZID=Europe/Berlin;VALUE=DATE:20220618
X-ALT-DESC;FMTTYPE=TEXT/HTML:Paddel-Start in Grambin\, Mönkebude  oder in
  Ückermünde - Wetterabhängig geht es erst in Richtung Norden\, dann zur
 ück nach Süden nach Ueckermünde\, oder anders herum. [caption id=\"atta
 chment_29263\" align=\"alignleft\" width=\"760\"] Paddelkarte Sonderoperat
 ion Mönkebude[/caption] &amp;nbsp\;
CATEGORIES:Großer  Paddelausflug
URL;VALUE=URI:https://www.hro1.de/mc-events/sonderoperation-moenkebude
METHOD:PUBLISH
END:VEVENT
END:VCALENDAR